BEGIN:VCALENDAR
VERSION:2.0
PRODID:-//Contratero//ES
CALSCALE:GREGORIAN
METHOD:PUBLISH
BEGIN:VEVENT
UID:9156/2021 PAS SERV@contratero.es
DTSTAMP:20260424T161104Z
DTSTART:20211029T235959
DTEND:20211030T005959
SUMMARY:Cierre: Prestación del servicio de correo electrónico en l
DESCRIPTION:Prestación del servicio de correo electrónico en la nube para el Ayuntamiento de Huesca durante los próximos dos años (2022-2024)\\n\\nOrganismo: Alcaldía del Ayuntamiento de Huesca\\n\\nVer en Contratero: https://contratero.es/contracts/9156/2021 PAS SERV
URL:https://contratero.es/contracts/9156/2021 PAS SERV
STATUS:CONFIRMED
BEGIN:VALARM
TRIGGER:-P1D
ACTION:DISPLAY
DESCRIPTION:Recordatorio: Prestación del servicio de cor
END:VALARM
END:VEVENT
END:VCALENDAR